BEGIN:VCALENDAR
VERSION:2.0
PRODID:-//Behinderte Alternative Freizeit e.V. - ECPv6.15.20//NONSGML v1.0//EN
CALSCALE:GREGORIAN
METHOD:PUBLISH
X-WR-CALNAME:Behinderte Alternative Freizeit e.V.
X-ORIGINAL-URL:https://bafev.de
X-WR-CALDESC:Veranstaltungen für Behinderte Alternative Freizeit e.V.
REFRESH-INTERVAL;VALUE=DURATION:PT1H
X-Robots-Tag:noindex
X-PUBLISHED-TTL:PT1H
BEGIN:VTIMEZONE
TZID:Europe/Berlin
BEGIN:DAYLIGHT
TZOFFSETFROM:+0100
TZOFFSETTO:+0200
TZNAME:CEST
DTSTART:20220327T010000
END:DAYLIGHT
BEGIN:STANDARD
TZOFFSETFROM:+0200
TZOFFSETTO:+0100
TZNAME:CET
DTSTART:20221030T010000
END:STANDARD
BEGIN:DAYLIGHT
TZOFFSETFROM:+0100
TZOFFSETTO:+0200
TZNAME:CEST
DTSTART:20230326T010000
END:DAYLIGHT
BEGIN:STANDARD
TZOFFSETFROM:+0200
TZOFFSETTO:+0100
TZNAME:CET
DTSTART:20231029T010000
END:STANDARD
BEGIN:DAYLIGHT
TZOFFSETFROM:+0100
TZOFFSETTO:+0200
TZNAME:CEST
DTSTART:20240331T010000
END:DAYLIGHT
BEGIN:STANDARD
TZOFFSETFROM:+0200
TZOFFSETTO:+0100
TZNAME:CET
DTSTART:20241027T010000
END:STANDARD
END:VTIMEZONE
BEGIN:VEVENT
DTSTART;TZID=Europe/Berlin:20231101T153000
DTEND;TZID=Europe/Berlin:20231101T180000
DTSTAMP:20260424T115516
CREATED:20231028T130143Z
LAST-MODIFIED:20231028T130143Z
UID:1904-1698852600-1698861600@bafev.de
SUMMARY:Kaffeerunde
DESCRIPTION:Unsere traditionelle Kaffeerunde findet jeden Mittwoch zwischen 15:30 Uhr – 18:00 Uhr in der Butterblume\, Doberaner Strasse 19\, 18057 Rostock statt. Hier treffen sich nicht nur unsere Vereinsmitglieder zu Kaffee und Kuchen\, es ist auch jeder herzlich willkommen\, der unseren Verein und unsere Arbeit kennenlernen möchte. Wir tauschen uns über alles\, was uns bewegt\, aus\, plaudern und planen gemeinsam mit euch unsere Freizeitaktivitäten. \nAnsprechpartner: Kerstin Schmidt\, Bettina Bull
URL:https://bafev.de/event/kaffeerunde-142
LOCATION:Butterblume\, Doberaner Strasse 19\, Rostock\, MV\, 18057\, Deutschland
END:VEVENT
BEGIN:VEVENT
DTSTART;TZID=Europe/Berlin:20231102T160000
DTEND;TZID=Europe/Berlin:20231102T180000
DTSTAMP:20260424T115516
CREATED:20231028T130835Z
LAST-MODIFIED:20231028T130835Z
UID:1914-1698940800-1698948000@bafev.de
SUMMARY:Bandprobe
DESCRIPTION:^\n\n\n\n						\n							\n\n  \n              \n \n \n\n  \n\n      \n        \n          \n          \n          \n        \n        \n    \n    \n  \n\n\n\n\n						\n\n					\n\n \nDie Proben unserer Band „Baf´n Roll finden jeden Donnerstag zwischen 16:00 Uhr – 18:00 Uhr in der Butterblume\, Doberaner Straße 19\, 18057 Rostock in Kooperation mit der Fantasia AG statt. Ansprechpartner ist Henning Müller.
URL:https://bafev.de/event/bandprobe-150
LOCATION:Butterblume\, Doberaner Strasse 19\, Rostock\, MV\, 18057\, Deutschland
END:VEVENT
BEGIN:VEVENT
DTSTART;TZID=Europe/Berlin:20231107T163000
DTEND;TZID=Europe/Berlin:20231107T180000
DTSTAMP:20260424T115516
CREATED:20231028T125314Z
LAST-MODIFIED:20231028T125314Z
UID:1895-1699374600-1699380000@bafev.de
SUMMARY:Theaterprobe
DESCRIPTION:Die Proben für die Theatergruppe „Die Verzauberten“ finden jeden Dienstag zwischen 16:30 Uhr – 18:00 Uhr in der Turnhalle\, Semmelweißstr. 2\, 18059 Rostock in Kooperation mit der Fantasia AG statt. Ansprechpartnerin ist Johanna Seier.
URL:https://bafev.de/event/theaterprobe-131
LOCATION:Turnhalle\, Semmelweisstrasse 2\, Rostock\, MV\, 18059
END:VEVENT
BEGIN:VEVENT
DTSTART;TZID=Europe/Berlin:20231108T153000
DTEND;TZID=Europe/Berlin:20231108T180000
DTSTAMP:20260424T115516
CREATED:20231028T130245Z
LAST-MODIFIED:20231028T130245Z
UID:1906-1699457400-1699466400@bafev.de
SUMMARY:Kaffeerunde
DESCRIPTION:Unsere traditionelle Kaffeerunde findet jeden Mittwoch zwischen 15:30 Uhr – 18:00 Uhr in der Butterblume\, Doberaner Strasse 19\, 18057 Rostock statt. Hier treffen sich nicht nur unsere Vereinsmitglieder zu Kaffee und Kuchen\, es ist auch jeder herzlich willkommen\, der unseren Verein und unsere Arbeit kennenlernen möchte. Wir tauschen uns über alles\, was uns bewegt\, aus\, plaudern und planen gemeinsam mit euch unsere Freizeitaktivitäten. \nAnsprechpartner: Kerstin Schmidt\, Bettina Bull
URL:https://bafev.de/event/kaffeerunde-143
LOCATION:Butterblume\, Doberaner Strasse 19\, Rostock\, MV\, 18057\, Deutschland
END:VEVENT
BEGIN:VEVENT
DTSTART;TZID=Europe/Berlin:20231114T163000
DTEND;TZID=Europe/Berlin:20231114T180000
DTSTAMP:20260424T115516
CREATED:20231028T125602Z
LAST-MODIFIED:20231028T125602Z
UID:1897-1699979400-1699984800@bafev.de
SUMMARY:Theaterprobe
DESCRIPTION:Die Proben für die Theatergruppe „Die Verzauberten“ finden jeden Dienstag zwischen 16:30 Uhr – 18:00 Uhr in der Turnhalle\, Semmelweißstr. 2\, 18059 Rostock in Kooperation mit der Fantasia AG statt. Ansprechpartnerin ist Johanna Seier.
URL:https://bafev.de/event/theaterprobe-132
LOCATION:Turnhalle\, Semmelweisstrasse 2\, Rostock\, MV\, 18059
END:VEVENT
BEGIN:VEVENT
DTSTART;TZID=Europe/Berlin:20231115T153000
DTEND;TZID=Europe/Berlin:20231115T180000
DTSTAMP:20260424T115516
CREATED:20231028T130409Z
LAST-MODIFIED:20231028T130409Z
UID:1908-1700062200-1700071200@bafev.de
SUMMARY:Kaffeerunde
DESCRIPTION:Unsere traditionelle Kaffeerunde findet jeden Mittwoch zwischen 15:30 Uhr – 18:00 Uhr in der Butterblume\, Doberaner Strasse 19\, 18057 Rostock statt. Hier treffen sich nicht nur unsere Vereinsmitglieder zu Kaffee und Kuchen\, es ist auch jeder herzlich willkommen\, der unseren Verein und unsere Arbeit kennenlernen möchte. Wir tauschen uns über alles\, was uns bewegt\, aus\, plaudern und planen gemeinsam mit euch unsere Freizeitaktivitäten. \nAnsprechpartner: Kerstin Schmidt\, Bettina Bull
URL:https://bafev.de/event/kaffeerunde-144
LOCATION:Butterblume\, Doberaner Strasse 19\, Rostock\, MV\, 18057\, Deutschland
END:VEVENT
BEGIN:VEVENT
DTSTART;TZID=Europe/Berlin:20231116T160000
DTEND;TZID=Europe/Berlin:20231116T180000
DTSTAMP:20260424T115516
CREATED:20231028T131039Z
LAST-MODIFIED:20231028T131039Z
UID:1918-1700150400-1700157600@bafev.de
SUMMARY:Bandprobe
DESCRIPTION:^\n\n\n\n						\n							\n\n  \n              \n \n \n\n  \n\n      \n        \n          \n          \n          \n        \n        \n    \n    \n  \n\n\n\n\n						\n\n					\n\n \nDie Proben unserer Band „Baf´n Roll finden jeden Donnerstag zwischen 16:00 Uhr – 18:00 Uhr in der Butterblume\, Doberaner Straße 19\, 18057 Rostock in Kooperation mit der Fantasia AG statt. Ansprechpartner ist Henning Müller.
URL:https://bafev.de/event/bandprobe-152
LOCATION:Butterblume\, Doberaner Strasse 19\, Rostock\, MV\, 18057\, Deutschland
END:VEVENT
BEGIN:VEVENT
DTSTART;TZID=Europe/Berlin:20231121T163000
DTEND;TZID=Europe/Berlin:20231121T180000
DTSTAMP:20260424T115516
CREATED:20231028T125659Z
LAST-MODIFIED:20231028T125659Z
UID:1899-1700584200-1700589600@bafev.de
SUMMARY:Theaterprobe
DESCRIPTION:Die Proben für die Theatergruppe „Die Verzauberten“ finden jeden Dienstag zwischen 16:30 Uhr – 18:00 Uhr in der Turnhalle\, Semmelweißstr. 2\, 18059 Rostock in Kooperation mit der Fantasia AG statt. Ansprechpartnerin ist Johanna Seier.
URL:https://bafev.de/event/theaterprobe-133
LOCATION:Turnhalle\, Semmelweisstrasse 2\, Rostock\, MV\, 18059
END:VEVENT
BEGIN:VEVENT
DTSTART;TZID=Europe/Berlin:20231122T153000
DTEND;TZID=Europe/Berlin:20231122T180000
DTSTAMP:20260424T115516
CREATED:20231028T130528Z
LAST-MODIFIED:20231028T130528Z
UID:1910-1700667000-1700676000@bafev.de
SUMMARY:Kaffeerunde
DESCRIPTION:Unsere traditionelle Kaffeerunde findet jeden Mittwoch zwischen 15:30 Uhr – 18:00 Uhr in der Butterblume\, Doberaner Strasse 19\, 18057 Rostock statt. Hier treffen sich nicht nur unsere Vereinsmitglieder zu Kaffee und Kuchen\, es ist auch jeder herzlich willkommen\, der unseren Verein und unsere Arbeit kennenlernen möchte. Wir tauschen uns über alles\, was uns bewegt\, aus\, plaudern und planen gemeinsam mit euch unsere Freizeitaktivitäten. \nAnsprechpartner: Kerstin Schmidt\, Bettina Bull
URL:https://bafev.de/event/kaffeerunde-145
LOCATION:Butterblume\, Doberaner Strasse 19\, Rostock\, MV\, 18057\, Deutschland
END:VEVENT
BEGIN:VEVENT
DTSTART;TZID=Europe/Berlin:20231123T160000
DTEND;TZID=Europe/Berlin:20231123T180000
DTSTAMP:20260424T115516
CREATED:20231028T131135Z
LAST-MODIFIED:20231028T131135Z
UID:1920-1700755200-1700762400@bafev.de
SUMMARY:Bandprobe
DESCRIPTION:^\n\n\n\n						\n							\n\n  \n              \n \n \n\n  \n\n      \n        \n          \n          \n          \n        \n        \n    \n    \n  \n\n\n\n\n						\n\n					\n\n \nDie Proben unserer Band „Baf´n Roll finden jeden Donnerstag zwischen 16:00 Uhr – 18:00 Uhr in der Butterblume\, Doberaner Straße 19\, 18057 Rostock in Kooperation mit der Fantasia AG statt. Ansprechpartner ist Henning Müller.
URL:https://bafev.de/event/bandprobe-153
LOCATION:Butterblume\, Doberaner Strasse 19\, Rostock\, MV\, 18057\, Deutschland
END:VEVENT
BEGIN:VEVENT
DTSTART;TZID=Europe/Berlin:20231128T163000
DTEND;TZID=Europe/Berlin:20231128T180000
DTSTAMP:20260424T115516
CREATED:20231028T125802Z
LAST-MODIFIED:20231028T125802Z
UID:1901-1701189000-1701194400@bafev.de
SUMMARY:Theaterprobe
DESCRIPTION:Die Proben für die Theatergruppe „Die Verzauberten“ finden jeden Dienstag zwischen 16:30 Uhr – 18:00 Uhr in der Turnhalle\, Semmelweißstr. 2\, 18059 Rostock in Kooperation mit der Fantasia AG statt. Ansprechpartnerin ist Johanna Seier.
URL:https://bafev.de/event/theaterprobe-134
LOCATION:Turnhalle\, Semmelweisstrasse 2\, Rostock\, MV\, 18059
END:VEVENT
BEGIN:VEVENT
DTSTART;TZID=Europe/Berlin:20231129T153000
DTEND;TZID=Europe/Berlin:20231129T180000
DTSTAMP:20260424T115516
CREATED:20231028T130638Z
LAST-MODIFIED:20231028T130638Z
UID:1912-1701271800-1701280800@bafev.de
SUMMARY:Kaffeerunde
DESCRIPTION:Unsere traditionelle Kaffeerunde findet jeden Mittwoch zwischen 15:30 Uhr – 18:00 Uhr in der Butterblume\, Doberaner Strasse 19\, 18057 Rostock statt. Hier treffen sich nicht nur unsere Vereinsmitglieder zu Kaffee und Kuchen\, es ist auch jeder herzlich willkommen\, der unseren Verein und unsere Arbeit kennenlernen möchte. Wir tauschen uns über alles\, was uns bewegt\, aus\, plaudern und planen gemeinsam mit euch unsere Freizeitaktivitäten. \nAnsprechpartner: Kerstin Schmidt\, Bettina Bull
URL:https://bafev.de/event/kaffeerunde-146
LOCATION:Butterblume\, Doberaner Strasse 19\, Rostock\, MV\, 18057\, Deutschland
END:VEVENT
BEGIN:VEVENT
DTSTART;TZID=Europe/Berlin:20231130T160000
DTEND;TZID=Europe/Berlin:20231130T180000
DTSTAMP:20260424T115516
CREATED:20231028T131238Z
LAST-MODIFIED:20231028T131238Z
UID:1922-1701360000-1701367200@bafev.de
SUMMARY:Bandprobe
DESCRIPTION:^\n\n\n\n						\n							\n\n  \n              \n \n \n\n  \n\n      \n        \n          \n          \n          \n        \n        \n    \n    \n  \n\n\n\n\n						\n\n					\n\n \nDie Proben unserer Band „Baf´n Roll finden jeden Donnerstag zwischen 16:00 Uhr – 18:00 Uhr in der Butterblume\, Doberaner Straße 19\, 18057 Rostock in Kooperation mit der Fantasia AG statt. Ansprechpartner ist Henning Müller.
URL:https://bafev.de/event/bandprobe-154
LOCATION:Butterblume\, Doberaner Strasse 19\, Rostock\, MV\, 18057\, Deutschland
END:VEVENT
END:VCALENDAR